BEGIN:VCALENDAR
VERSION:2.0
PRODID:-//Deptford X - ECPv6.6.4.2//NONSGML v1.0//EN
CALSCALE:GREGORIAN
METHOD:PUBLISH
X-ORIGINAL-URL:https://deptfordx.org
X-WR-CALDESC:Events for Deptford X
REFRESH-INTERVAL;VALUE=DURATION:PT1H
X-Robots-Tag:noindex
X-PUBLISHED-TTL:PT1H
BEGIN:VTIMEZONE
TZID:UTC
BEGIN:STANDARD
TZOFFSETFROM:+0000
TZOFFSETTO:+0000
TZNAME:UTC
DTSTART:20220101T000000
END:STANDARD
END:VTIMEZONE
BEGIN:VEVENT
DTSTART;VALUE=DATE:20241018
DTEND;VALUE=DATE:20241021
DTSTAMP:20260420T151326
CREATED:20240924T150639Z
LAST-MODIFIED:20241106T121341Z
UID:7356-1729209600-1729468799@deptfordx.org
SUMMARY:Artist Weekender 2024
DESCRIPTION:
URL:https://deptfordx.org/event/artist-weekender-2024/
LOCATION:Creekside Discovery Centre\, Creekside Discovery Centre\, 14 Creekside\, London\, SE8 4SA\, United Kingdom
CATEGORIES:What's On Archive
ATTACH;FMTTYPE=image/jpeg:https://deptfordx.org/wp-content/uploads/2024/09/Photography-by-Ngo-Chun-Tse-for-Deptford-X_38-e1730894944835.jpg
END:VEVENT
BEGIN:VEVENT
DTSTART;TZID=UTC:20230930T200000
DTEND;TZID=UTC:20230930T203000
DTSTAMP:20260420T151326
CREATED:20230915T101036Z
LAST-MODIFIED:20240918T113420Z
UID:6915-1696104000-1696105800@deptfordx.org
SUMMARY:Alice McCabe and Amy Cutler\, Meshwork for Creek Trail
DESCRIPTION:
URL:https://deptfordx.org/event/meshwork-for-creek-trail/
LOCATION:Creekside Discovery Centre\, Creekside Discovery Centre\, 14 Creekside\, London\, SE8 4SA\, United Kingdom
CATEGORIES:Fringe 2023,What's On Archive
ATTACH;FMTTYPE=image/jpeg:https://deptfordx.org/wp-content/uploads/2023/09/image_6487327.jpg
END:VEVENT
BEGIN:VEVENT
DTSTART;VALUE=DATE:20220722
DTEND;VALUE=DATE:20220725
DTSTAMP:20260420T151326
CREATED:20221221T120150Z
LAST-MODIFIED:20241007T204035Z
UID:5538-1658448000-1658707199@deptfordx.org
SUMMARY:‘Who We Are’ Exhibition\, Deptford X and Liberty Festival
DESCRIPTION:
URL:https://deptfordx.org/event/who-we-are-exhibition-deptford-x-and-liberty-festival/
CATEGORIES:What's On 2022,What's On Archive
ATTACH;FMTTYPE=image/png:https://deptfordx.org/wp-content/uploads/2022/07/Meltdown-Samsara-e1657882701330.png
END:VEVENT
BEGIN:VEVENT
DTSTART;VALUE=DATE:20220201
DTEND;VALUE=DATE:20220301
DTSTAMP:20260420T151326
CREATED:20220113T125230Z
LAST-MODIFIED:20221221T115829Z
UID:4662-1643673600-1646092799@deptfordx.org
SUMMARY:Lunar New Year Festival - Exhibition
DESCRIPTION:
URL:https://deptfordx.org/event/lnyexhibition/
LOCATION:Deptford X\, Unit A\, 9 Brookmill Road\, SE8 4HL
CATEGORIES:2021 Archive,What's On Archive
ATTACH;FMTTYPE=image/png:https://deptfordx.org/wp-content/uploads/2022/01/Lunar-New-Year-Banner-2022.png
END:VEVENT
END:VCALENDAR