BEGIN:VCALENDAR
VERSION:2.0
PRODID:-//Deptford X - ECPv6.6.4.2//NONSGML v1.0//EN
CALSCALE:GREGORIAN
METHOD:PUBLISH
X-WR-CALNAME:Deptford X
X-ORIGINAL-URL:https://deptfordx.org
X-WR-CALDESC:Events for Deptford X
REFRESH-INTERVAL;VALUE=DURATION:PT1H
X-Robots-Tag:noindex
X-PUBLISHED-TTL:PT1H
BEGIN:VTIMEZONE
TZID:UTC
BEGIN:STANDARD
TZOFFSETFROM:+0000
TZOFFSETTO:+0000
TZNAME:UTC
DTSTART:20210101T000000
END:STANDARD
END:VTIMEZONE
BEGIN:VEVENT
DTSTART;VALUE=DATE:20210801
DTEND;VALUE=DATE:20210901
DTSTAMP:20260420T093053
CREATED:20210702T223401Z
LAST-MODIFIED:20211104T131437Z
UID:4243-1627776000-1630454399@deptfordx.org
SUMMARY:AAJA - Radio Neighbourhood
DESCRIPTION:
URL:https://deptfordx.org/event/aajaradioneighbourhood/
CATEGORIES:2021 Archive,AAJA
ATTACH;FMTTYPE=image/png:https://deptfordx.org/wp-content/uploads/2021/07/RadioNeighbourhood2ndEdition.png
END:VEVENT
BEGIN:VEVENT
DTSTART;VALUE=DATE:20210718
DTEND;VALUE=DATE:20210901
DTSTAMP:20260420T093053
CREATED:20210702T213107Z
LAST-MODIFIED:20211104T131545Z
UID:4238-1626566400-1630454399@deptfordx.org
SUMMARY:AAJA - Black Holes - Seke Chimutengwende and Alexandrina Hemsley
DESCRIPTION:
URL:https://deptfordx.org/event/blackholes/
LOCATION:AAJA Music.com
CATEGORIES:2021 Archive,AAJA
ATTACH;FMTTYPE=image/gif:https://deptfordx.org/wp-content/uploads/2021/07/Black-Holes-Rotation-2.gif
END:VEVENT
BEGIN:VEVENT
DTSTART;VALUE=DATE:20210717
DTEND;VALUE=DATE:20210901
DTSTAMP:20260420T093053
CREATED:20210627T214449Z
LAST-MODIFIED:20211104T133332Z
UID:4122-1626480000-1630454399@deptfordx.org
SUMMARY:AAJA RADIO - Mudcast
DESCRIPTION:
URL:https://deptfordx.org/event/mudcast/
CATEGORIES:2021 Archive,AAJA
ATTACH;FMTTYPE=image/png:https://deptfordx.org/wp-content/uploads/2021/06/1.-Mudcast-square.png
END:VEVENT
BEGIN:VEVENT
DTSTART;VALUE=DATE:20210715
DTEND;VALUE=DATE:20210901
DTSTAMP:20260420T093053
CREATED:20210627T212735Z
LAST-MODIFIED:20211104T133307Z
UID:4117-1626307200-1630454399@deptfordx.org
SUMMARY:AAJA RADIO - Jaron Hill
DESCRIPTION:
URL:https://deptfordx.org/event/jaronhill/
CATEGORIES:2021 Archive,AAJA
ATTACH;FMTTYPE=image/jpeg:https://deptfordx.org/wp-content/uploads/2021/06/Jaron-Hill-Third-Quest-Deptford-X-Festival-2021_image-courtsey-of-the-artist-scaled.jpg
END:VEVENT
BEGIN:VEVENT
DTSTART;VALUE=DATE:20210714
DTEND;VALUE=DATE:20210901
DTSTAMP:20260420T093053
CREATED:20210627T211730Z
LAST-MODIFIED:20211104T133248Z
UID:4109-1626220800-1630454399@deptfordx.org
SUMMARY:AAJA RADIO - Linett Kamala Soundscape
DESCRIPTION:
URL:https://deptfordx.org/event/linettkamala/
CATEGORIES:2021 Archive,AAJA
ATTACH;FMTTYPE=image/jpeg:https://deptfordx.org/wp-content/uploads/2021/06/Linett-Kamala-Portrait-Dreaming-Field-Lab-13-June-2021-©-Linett-Kamala.jpg
END:VEVENT
BEGIN:VEVENT
DTSTART;VALUE=DATE:20210713
DTEND;VALUE=DATE:20210901
DTSTAMP:20260420T093053
CREATED:20210701T134704Z
LAST-MODIFIED:20211104T133354Z
UID:4189-1626134400-1630454399@deptfordx.org
SUMMARY:AAJA RADIO - Subaltern Radio 001 Vishal Kumaraswamy
DESCRIPTION:
URL:https://deptfordx.org/event/subaltern/
CATEGORIES:2021 Archive,AAJA
ATTACH;FMTTYPE=image/jpeg:https://deptfordx.org/wp-content/uploads/2021/07/Dematerialise-Vishal-Kumaraswamy_2020_Courtesy-of-the-artist-HIGH-RES.jpg
END:VEVENT
BEGIN:VEVENT
DTSTART;VALUE=DATE:20210712
DTEND;VALUE=DATE:20210901
DTSTAMP:20260420T093053
CREATED:20210702T200114Z
LAST-MODIFIED:20211104T133227Z
UID:4231-1626048000-1630454399@deptfordx.org
SUMMARY:AAJA RADIO - Ash & Gabi
DESCRIPTION:
URL:https://deptfordx.org/event/babeworld/
CATEGORIES:2021 Archive,AAJA
ATTACH;FMTTYPE=image/jpeg:https://deptfordx.org/wp-content/uploads/2021/07/DEPTXPIC.jpg
END:VEVENT
END:VCALENDAR