BEGIN:VCALENDAR
VERSION:2.0
PRODID:-//Deptford X - ECPv6.6.4.2//NONSGML v1.0//EN
CALSCALE:GREGORIAN
METHOD:PUBLISH
X-WR-CALNAME:Deptford X
X-ORIGINAL-URL:https://deptfordx.org
X-WR-CALDESC:Events for Deptford X
REFRESH-INTERVAL;VALUE=DURATION:PT1H
X-Robots-Tag:noindex
X-PUBLISHED-TTL:PT1H
BEGIN:VTIMEZONE
TZID:UTC
BEGIN:STANDARD
TZOFFSETFROM:+0000
TZOFFSETTO:+0000
TZNAME:UTC
DTSTART:20230101T000000
END:STANDARD
END:VTIMEZONE
BEGIN:VEVENT
DTSTART;VALUE=DATE:20230922
DTEND;VALUE=DATE:20231002
DTSTAMP:20260420T090154
CREATED:20230915T123941Z
LAST-MODIFIED:20230922T073428Z
UID:6544-1695340800-1696204799@deptfordx.org
SUMMARY:Gill Houghton - On Reading
DESCRIPTION:
URL:https://deptfordx.org/event/on-reading/
LOCATION:Deptford Lounge\, 9 Giffin Street\, London\, SE8 4RJ\, London\, SE8 4RJ
CATEGORIES:Fringe 2023
ATTACH;FMTTYPE=image/jpeg:https://deptfordx.org/wp-content/uploads/2023/09/IMG-20230915-WA0002.jpg
END:VEVENT
BEGIN:VEVENT
DTSTART;VALUE=DATE:20230922
DTEND;VALUE=DATE:20231002
DTSTAMP:20260420T090154
CREATED:20230915T131800Z
LAST-MODIFIED:20230918T150301Z
UID:6546-1695340800-1696204799@deptfordx.org
SUMMARY:Like Smell of Smoke on Your Clothes
DESCRIPTION:
URL:https://deptfordx.org/event/like-smell-of-smoke-on-your-clothes/
LOCATION:Deptford Lounge\, 9 Giffin Street\, London\, SE8 4RJ\, London\, SE8 4RJ
CATEGORIES:Fringe 2023
ATTACH;FMTTYPE=image/jpeg:https://deptfordx.org/wp-content/uploads/2023/09/Home-Displacement_sohamcantdo-Soham-Kundu-scaled.jpg
END:VEVENT
BEGIN:VEVENT
DTSTART;VALUE=DATE:20230922
DTEND;VALUE=DATE:20231002
DTSTAMP:20260420T090154
CREATED:20230915T132219Z
LAST-MODIFIED:20230915T132219Z
UID:6548-1695340800-1696204799@deptfordx.org
SUMMARY:PSA
DESCRIPTION:
URL:https://deptfordx.org/event/psa/
LOCATION:Deptford Lounge\, Deptford Lounge\, Giffin Square\, London\, SE8 4RJ
CATEGORIES:Fringe 2023
ATTACH;FMTTYPE=image/jpeg:https://deptfordx.org/wp-content/uploads/2023/09/1_PSA_SaskiaTakensMilne_DeptfordLounge-saskia-Takens-Milne.jpg
END:VEVENT
BEGIN:VEVENT
DTSTART;VALUE=DATE:20230922
DTEND;VALUE=DATE:20231002
DTSTAMP:20260420T090154
CREATED:20230915T133239Z
LAST-MODIFIED:20230915T133239Z
UID:6550-1695340800-1696204799@deptfordx.org
SUMMARY:Today's Style
DESCRIPTION:
URL:https://deptfordx.org/event/todays-style/
LOCATION:Deptford Lounge\, 9 Giffin Street\, London\, SE8 4RJ\, London\, SE8 4RJ
CATEGORIES:Fringe 2023
ATTACH;FMTTYPE=image/jpeg:https://deptfordx.org/wp-content/uploads/2023/09/todays_style-Joanna-Mamede.jpg
END:VEVENT
BEGIN:VEVENT
DTSTART;VALUE=DATE:20230922
DTEND;VALUE=DATE:20231002
DTSTAMP:20260420T090154
CREATED:20230914T141512Z
LAST-MODIFIED:20230914T142250Z
UID:6605-1695340800-1696204799@deptfordx.org
SUMMARY:On the verge of something very big
DESCRIPTION:
URL:https://deptfordx.org/event/on-the-verge-of-something-very-big/
LOCATION:Festival Hub\, 5 Carriage Way\, Deptford\, SE8 4BZ
CATEGORIES:Core Programme 2023,Festival Commissions 2023
ATTACH;FMTTYPE=image/jpeg:https://deptfordx.org/wp-content/uploads/2023/09/Holly-Graham-On-the-verge-of-something-very-big-detail-of-work-in-progress-commissoned-for-Deptford-X-2023-on-the-occassion-of-the-25th-anniversary.-Image-courtesy-of-the-artist-1-scaled.jpg
END:VEVENT
BEGIN:VEVENT
DTSTART;VALUE=DATE:20230922
DTEND;VALUE=DATE:20231002
DTSTAMP:20260420T090154
CREATED:20230915T134752Z
LAST-MODIFIED:20230915T134752Z
UID:6074-1695340800-1696204799@deptfordx.org
SUMMARY:Little Nan's Arches of Dreams
DESCRIPTION:
URL:https://deptfordx.org/event/little-nans-arches-of-dreams/
LOCATION:Little Nan’s Bar & Granddads Shed\, Little Nan's Bar & Granddads Shed\, Arches 14 & 15 Deptford Market Yard\, Deptford\, London\, SE8 4BX
CATEGORIES:Fringe 2023
ATTACH;FMTTYPE=image/png:https://deptfordx.org/wp-content/uploads/2023/09/Little-Nans-Arches-of-Dreams-4-Trstan-J-C-Scutt-Tristan-Scutt.png
END:VEVENT
BEGIN:VEVENT
DTSTART;VALUE=DATE:20230922
DTEND;VALUE=DATE:20231002
DTSTAMP:20260420T090154
CREATED:20230913T112220Z
LAST-MODIFIED:20230913T112220Z
UID:6683-1695340800-1696204799@deptfordx.org
SUMMARY:Crocus in the dirt
DESCRIPTION:
URL:https://deptfordx.org/event/crocus-in-the-dirt/
LOCATION:390 New Cross Road\, London\, SE14 6TY
CATEGORIES:Fringe 2023
ATTACH;FMTTYPE=image/jpeg:https://deptfordx.org/wp-content/uploads/2023/09/Once-Again-This-Time_Ellie-Reid_Artworks_New-Cross-Bridge-elliereid.jpg
END:VEVENT
BEGIN:VEVENT
DTSTART;VALUE=DATE:20230922
DTEND;VALUE=DATE:20231002
DTSTAMP:20260420T090154
CREATED:20230913T144546Z
LAST-MODIFIED:20230913T144624Z
UID:6736-1695340800-1696204799@deptfordx.org
SUMMARY:Enchanted Glass
DESCRIPTION:
URL:https://deptfordx.org/event/enchanted-glass/
LOCATION:The Bohemians Salon\, The Bohemians Salon\, 53 Deptford Broadway\, London\, SE8 4PH
CATEGORIES:Fringe 2023
ATTACH;FMTTYPE=image/jpeg:https://deptfordx.org/wp-content/uploads/2023/09/IvaDecheva-Art-Iva-Decheva.jpg
END:VEVENT
BEGIN:VEVENT
DTSTART;VALUE=DATE:20230922
DTEND;VALUE=DATE:20231002
DTSTAMP:20260420T090154
CREATED:20230913T151047Z
LAST-MODIFIED:20230913T151047Z
UID:6747-1695340800-1696204799@deptfordx.org
SUMMARY:Deptford Spirestar
DESCRIPTION:
URL:https://deptfordx.org/event/deptford-spirestar/
LOCATION:Deptford Does Art\, 28 Deptford High Street\, London\, SE8 4AF
CATEGORIES:Fringe 2023
ATTACH;FMTTYPE=image/jpeg:https://deptfordx.org/wp-content/uploads/2023/09/deptford_spirestar-001b-small-Sam-Kerridge.jpg
END:VEVENT
BEGIN:VEVENT
DTSTART;VALUE=DATE:20230922
DTEND;VALUE=DATE:20231002
DTSTAMP:20260420T090154
CREATED:20230913T153959Z
LAST-MODIFIED:20230918T153346Z
UID:6753-1695340800-1696204799@deptfordx.org
SUMMARY:Modern Life
DESCRIPTION:
URL:https://deptfordx.org/event/modern-life/
LOCATION:Isla Ray\, 37 Deptford High Street\, London\, SE8 4AD
CATEGORIES:Fringe 2023
ATTACH;FMTTYPE=image/jpeg:https://deptfordx.org/wp-content/uploads/2023/09/Scatterbrain_III_-Selec-Broke-HW-John-Heywood-Waddington-scaled.jpg
END:VEVENT
BEGIN:VEVENT
DTSTART;VALUE=DATE:20230922
DTEND;VALUE=DATE:20231002
DTSTAMP:20260420T090154
CREATED:20230913T161142Z
LAST-MODIFIED:20230920T090455Z
UID:6760-1695340800-1696204799@deptfordx.org
SUMMARY:Homing Pigeons
DESCRIPTION:
URL:https://deptfordx.org/event/homing-pigeons/
LOCATION:The Albany\, Douglas Way\, Deptford\, London\, SE8 4AG\, SE8 4AG
CATEGORIES:Fringe 2023
ATTACH;FMTTYPE=image/jpeg:https://deptfordx.org/wp-content/uploads/2023/09/Homing-Pigeon-ex.1-Michelle-Lee-Johnson-Deptford-Market-Yard-Michelle-Johnson-1.jpeg
END:VEVENT
BEGIN:VEVENT
DTSTART;VALUE=DATE:20230922
DTEND;VALUE=DATE:20231002
DTSTAMP:20260420T090154
CREATED:20230913T163334Z
LAST-MODIFIED:20230918T154054Z
UID:6764-1695340800-1696204799@deptfordx.org
SUMMARY:Pandamonium
DESCRIPTION:
URL:https://deptfordx.org/event/pandamonium/
LOCATION:Rebekah’s Restoration\, Payne's Wharf\, 23 Wharf Street\, Deptford\, London\, SE8 3GG
CATEGORIES:Fringe 2023
ATTACH;FMTTYPE=image/jpeg:https://deptfordx.org/wp-content/uploads/2023/09/IMG_8317-Marcus-Davies.jpeg
END:VEVENT
BEGIN:VEVENT
DTSTART;VALUE=DATE:20230922
DTEND;VALUE=DATE:20231002
DTSTAMP:20260420T090154
CREATED:20230913T163827Z
LAST-MODIFIED:20230913T163827Z
UID:6768-1695340800-1696204799@deptfordx.org
SUMMARY:The Sculpture Garden at Twinkle Park
DESCRIPTION:
URL:https://deptfordx.org/event/the-sculpture-garden-at-twinkle-park/
LOCATION:Twinkle Park\, London\, SE8 3FY\, United Kingdom
CATEGORIES:Fringe 2023
ATTACH;FMTTYPE=image/jpeg:https://deptfordx.org/wp-content/uploads/2023/09/Sculpture-Garden-Poster-2023-Borthwick-St-Artists-Friends-Twinkle-Park-I-G-Ian-scaled.jpg
END:VEVENT
BEGIN:VEVENT
DTSTART;VALUE=DATE:20230922
DTEND;VALUE=DATE:20231002
DTSTAMP:20260420T090154
CREATED:20230914T143148Z
LAST-MODIFIED:20231007T111522Z
UID:6600-1695340800-1696204799@deptfordx.org
SUMMARY:A Whistling Woman\, a Crowing Hen
DESCRIPTION:
URL:https://deptfordx.org/event/a-whistling-woman-a-crowing-hen/
LOCATION:Lewisham Arthouse
CATEGORIES:Core Programme 2023,Festival Commissions 2023
ATTACH;FMTTYPE=image/png:https://deptfordx.org/wp-content/uploads/2023/09/Screenshot-2023-09-14-at-11.29.10.png
END:VEVENT
BEGIN:VEVENT
DTSTART;VALUE=DATE:20230922
DTEND;VALUE=DATE:20231002
DTSTAMP:20260420T090154
CREATED:20230914T143257Z
LAST-MODIFIED:20230927T093225Z
UID:6602-1695340800-1696204799@deptfordx.org
SUMMARY:London’s Lower East Side | The Montmartre of London | The new Hoxton
DESCRIPTION:
URL:https://deptfordx.org/event/londons-lower-east-side-the-montmartre-of-london-the-new-hoxton/
CATEGORIES:Core Programme 2023,Festival Commissions 2023
ATTACH;FMTTYPE=image/jpeg:https://deptfordx.org/wp-content/uploads/2023/09/depford-x_low-res-15.jpg
END:VEVENT
BEGIN:VEVENT
DTSTART;VALUE=DATE:20230922
DTEND;VALUE=DATE:20231002
DTSTAMP:20260420T090154
CREATED:20230914T143358Z
LAST-MODIFIED:20230927T093100Z
UID:6723-1695340800-1696204799@deptfordx.org
SUMMARY:KAZ - '2cm Below The Soil'
DESCRIPTION:
URL:https://deptfordx.org/event/2cm-below-the-soil/
LOCATION:Festival Hub\, 5 Carriage Way\, Deptford\, SE8 4BZ
CATEGORIES:Core Programme 2023,Festival Commissions 2023
ATTACH;FMTTYPE=image/jpeg:https://deptfordx.org/wp-content/uploads/2023/09/depford-x_low-res-24.jpg
END:VEVENT
BEGIN:VEVENT
DTSTART;VALUE=DATE:20230922
DTEND;VALUE=DATE:20231002
DTSTAMP:20260420T090154
CREATED:20230914T163625Z
LAST-MODIFIED:20231007T111753Z
UID:6751-1695340800-1696204799@deptfordx.org
SUMMARY:Let's have a festival!
DESCRIPTION:
URL:https://deptfordx.org/event/lets-have-a-festival/
LOCATION:Lewisham Arthouse
CATEGORIES:25th Anniversary,Core Programme 2023
ATTACH;FMTTYPE=image/png:https://deptfordx.org/wp-content/uploads/2023/09/Exhibition-image.png
END:VEVENT
BEGIN:VEVENT
DTSTART;VALUE=DATE:20230922
DTEND;VALUE=DATE:20231002
DTSTAMP:20260420T090154
CREATED:20230914T171218Z
LAST-MODIFIED:20240205T134710Z
UID:6725-1695340800-1696204799@deptfordx.org
SUMMARY:Raheel Khan - 'Hum Drum'
DESCRIPTION:
URL:https://deptfordx.org/event/hum-drum/
LOCATION:Enclave Unit 9\, 50 Resolution Way\, Deptford\, SE8 4NT
CATEGORIES:Core Programme 2023,Festival Commissions 2023
ATTACH;FMTTYPE=image/jpeg:https://deptfordx.org/wp-content/uploads/2023/09/depford-x_low-res-31.jpg
END:VEVENT
BEGIN:VEVENT
DTSTART;VALUE=DATE:20230922
DTEND;VALUE=DATE:20231002
DTSTAMP:20260420T090154
CREATED:20230914T171618Z
LAST-MODIFIED:20230927T100201Z
UID:6727-1695340800-1696204799@deptfordx.org
SUMMARY:nyanju - 'dare/daré'
DESCRIPTION:
URL:https://deptfordx.org/event/dare-dare/
LOCATION:Carriage Way\, Deptford Market Yard\, Deptford\, SE8 4BX
CATEGORIES:Core Programme 2023,Festival Commissions 2023
ATTACH;FMTTYPE=image/jpeg:https://deptfordx.org/wp-content/uploads/2023/09/depford-x_compressed-8.jpg
END:VEVENT
BEGIN:VEVENT
DTSTART;VALUE=DATE:20230922
DTEND;VALUE=DATE:20231002
DTSTAMP:20260420T090154
CREATED:20230915T113051Z
LAST-MODIFIED:20230918T154352Z
UID:5923-1695340800-1696204799@deptfordx.org
SUMMARY:Defax25
DESCRIPTION:
URL:https://deptfordx.org/event/defax25/
LOCATION:Online
CATEGORIES:Fringe 2023
ATTACH;FMTTYPE=image/png:https://deptfordx.org/wp-content/uploads/2023/09/X1-axs203.png
END:VEVENT
BEGIN:VEVENT
DTSTART;VALUE=DATE:20230922
DTEND;VALUE=DATE:20231002
DTSTAMP:20260420T090154
CREATED:20230915T125651Z
LAST-MODIFIED:20230915T125651Z
UID:5942-1695340800-1696204799@deptfordx.org
SUMMARY:Holding On
DESCRIPTION:
URL:https://deptfordx.org/event/holding-on/
LOCATION:Windows of Deptford Lounge
CATEGORIES:Fringe 2023
ATTACH;FMTTYPE=image/jpeg:https://deptfordx.org/wp-content/uploads/2023/09/5CBBC377-9AB4-4E2A-9AA2-CA487EE018FE-Cash-Aspeek-scaled.jpeg
END:VEVENT
BEGIN:VEVENT
DTSTART;VALUE=DATE:20230922
DTEND;VALUE=DATE:20231002
DTSTAMP:20260420T090154
CREATED:20230915T130117Z
LAST-MODIFIED:20230915T130211Z
UID:6539-1695340800-1696204799@deptfordx.org
SUMMARY:Dialogues: A Hybrid Art Project
DESCRIPTION:
URL:https://deptfordx.org/event/dialogues-a-hybrid-art-project/
LOCATION:Window 1 of Deptford Lounge
CATEGORIES:Fringe 2023
ATTACH;FMTTYPE=image/jpeg:https://deptfordx.org/wp-content/uploads/2023/09/The-Formula-elisavet-kalpaxi-scaled.jpeg
END:VEVENT
BEGIN:VEVENT
DTSTART;VALUE=DATE:20230922
DTEND;VALUE=DATE:20231001
DTSTAMP:20260420T090154
CREATED:20230915T130500Z
LAST-MODIFIED:20230915T130500Z
UID:5957-1695340800-1696118399@deptfordx.org
SUMMARY:Sunvalley Drive
DESCRIPTION:
URL:https://deptfordx.org/event/sunvalley-drive/
LOCATION:Deptford Lounge\, 9 Giffin Street\, London\, SE8 4RJ\, London\, SE8 4RJ
CATEGORIES:Fringe 2023
ATTACH;FMTTYPE=image/jpeg:https://deptfordx.org/wp-content/uploads/2023/09/Deptford-Lounge-shaloma-ellis-scaled.jpeg
END:VEVENT
BEGIN:VEVENT
DTSTART;VALUE=DATE:20230922
DTEND;VALUE=DATE:20231002
DTSTAMP:20260420T090154
CREATED:20230915T130720Z
LAST-MODIFIED:20230915T130720Z
UID:5966-1695340800-1696204799@deptfordx.org
SUMMARY:Archipelago
DESCRIPTION:
URL:https://deptfordx.org/event/archipelago/
LOCATION:Deptford Lounge\, 9 Giffin Street\, London\, SE8 4RJ\, London\, SE8 4RJ
CATEGORIES:Fringe 2023
ATTACH;FMTTYPE=image/jpeg:https://deptfordx.org/wp-content/uploads/2023/09/Archipelago_Helen-Smith_Deptford-Lounge_1-HELEN-SMITH-scaled.jpg
END:VEVENT
BEGIN:VEVENT
DTSTART;VALUE=DATE:20230922
DTEND;VALUE=DATE:20231002
DTSTAMP:20260420T090154
CREATED:20230915T131004Z
LAST-MODIFIED:20230918T154734Z
UID:5993-1695340800-1696204799@deptfordx.org
SUMMARY:Natures Turbine
DESCRIPTION:
URL:https://deptfordx.org/event/natures-turbine/
LOCATION:Deptford Lounge\, 9 Giffin Street\, London\, SE8 4RJ\, London\, SE8 4RJ
CATEGORIES:Fringe 2023
ATTACH;FMTTYPE=image/jpeg:https://deptfordx.org/wp-content/uploads/2023/09/Carolione-at-Peckham-Rye-Brian-Francis.jpg
END:VEVENT
BEGIN:VEVENT
DTSTART;VALUE=DATE:20230922
DTEND;VALUE=DATE:20231002
DTSTAMP:20260420T090154
CREATED:20230915T132340Z
LAST-MODIFIED:20230918T133411Z
UID:6020-1695340800-1696204799@deptfordx.org
SUMMARY:AWN
DESCRIPTION:
URL:https://deptfordx.org/event/awn/
LOCATION:Front window of Deptford Lounge\, Deptford Lounge\, Giffin Square\, 9 Giffin St\, London\, SE8 4RJ
CATEGORIES:Fringe 2023
ATTACH;FMTTYPE=image/jpeg:https://deptfordx.org/wp-content/uploads/2023/09/IMG_20230910_181847_535-scaled.jpg
END:VEVENT
BEGIN:VEVENT
DTSTART;VALUE=DATE:20230922
DTEND;VALUE=DATE:20231001
DTSTAMP:20260420T090154
CREATED:20230915T132820Z
LAST-MODIFIED:20230918T155026Z
UID:6023-1695340800-1696118399@deptfordx.org
SUMMARY:The Pigeons
DESCRIPTION:
URL:https://deptfordx.org/event/the-pigeons/
LOCATION:Deptford Lounge\, Deptford Lounge\, Giffin Square\, London\, SE8 4RJ
CATEGORIES:Fringe 2023
ATTACH;FMTTYPE=image/jpeg:https://deptfordx.org/wp-content/uploads/2023/09/Pigeon4CalByrneGiffinSquare-Cal-Byrne.jpg
END:VEVENT
BEGIN:VEVENT
DTSTART;VALUE=DATE:20230922
DTEND;VALUE=DATE:20231002
DTSTAMP:20260420T090154
CREATED:20230915T133420Z
LAST-MODIFIED:20230915T133420Z
UID:6037-1695340800-1696204799@deptfordx.org
SUMMARY:Urban Transitions
DESCRIPTION:
URL:https://deptfordx.org/event/urban-transitions/
LOCATION:Window 4 of Deptford Lounge\, Deptford Lounge\, 9 Giffin Street\, London\, SE8 4RJ
CATEGORIES:Fringe 2023
ATTACH;FMTTYPE=image/jpeg:https://deptfordx.org/wp-content/uploads/2023/09/Jamaica-Series-NaziaParvez-Nazia-Parvez-scaled.jpg
END:VEVENT
BEGIN:VEVENT
DTSTART;VALUE=DATE:20230922
DTEND;VALUE=DATE:20231002
DTSTAMP:20260420T090154
CREATED:20230915T133626Z
LAST-MODIFIED:20230915T133626Z
UID:6042-1695340800-1696204799@deptfordx.org
SUMMARY:House of Standard Series P3-1/16
DESCRIPTION:
URL:https://deptfordx.org/event/house-of-standard-series-p3-1-16/
LOCATION:Deptford Lounge\, 9 Giffin Street\, London\, SE8 4RJ\, London\, SE8 4RJ
CATEGORIES:Fringe 2023
ATTACH;FMTTYPE=image/jpeg:https://deptfordx.org/wp-content/uploads/2023/09/Usva-Inei-House-of-Standard-Series-P3116-2023-Usva-Inei-scaled.jpg
END:VEVENT
BEGIN:VEVENT
DTSTART;VALUE=DATE:20230922
DTEND;VALUE=DATE:20231002
DTSTAMP:20260420T090154
CREATED:20230915T134129Z
LAST-MODIFIED:20230915T140254Z
UID:6051-1695340800-1696204799@deptfordx.org
SUMMARY:Serenade
DESCRIPTION:
URL:https://deptfordx.org/event/serenade/
LOCATION:Deptford Lounge\, 9 Giffin Street\, London\, SE8 4RJ\, London\, SE8 4RJ
CATEGORIES:Fringe 2023
ATTACH;FMTTYPE=image/jpeg:https://deptfordx.org/wp-content/uploads/2023/09/1_Serenade_Dawoon-Kim_Deptford-Lounge-Dawoon-Kim.jpg
END:VEVENT
END:VCALENDAR